BEGIN:VCALENDAR
VERSION:2.0
PRODID:-//hacksw/handcal//NONSGML v1.0//EN
CALSCALE:GREGORIAN
BEGIN:VEVENT
DTSTART:20251113T081500Z
DTEND:20251113T093000Z
UID:e30872
DTSTAMP:20260420T194155Z
LOCATION:
DESCRIPTION:Physics Colloquium
SUMMARY:Physics Colloquium
END:VEVENT
END:VCALENDAR