BEGIN:VCALENDAR
VERSION:2.0
PRODID:-//hacksw/handcal//NONSGML v1.0//EN
CALSCALE:GREGORIAN
BEGIN:VEVENT
DTSTART:20251113T060000Z
DTEND:20251113T070000Z
UID:e30878
DTSTAMP:20260420T190126Z
LOCATION:
DESCRIPTION:Patient specific CRISPR – Are we ready for the clinic?
SUMMARY:Patient specific CRISPR – Are we ready for the clinic?
END:VEVENT
END:VCALENDAR