BEGIN:VCALENDAR
VERSION:2.0
PRODID:-//hacksw/handcal//NONSGML v1.0//EN
CALSCALE:GREGORIAN
BEGIN:VEVENT
DTSTART:20251118T081500Z
DTEND:20251118T091500Z
UID:e30898
DTSTAMP:20260420T194146Z
LOCATION:Gerhard M.J. Schmidt Lecture Hall
DESCRIPTION:Probing and Modulating Transcription Factor–DNA Interactions with Chemically Modified Proteins
SUMMARY:Probing and Modulating Transcription Factor–DNA Interactions with Chemically Modified Proteins
END:VEVENT
END:VCALENDAR