BEGIN:VCALENDAR
VERSION:2.0
PRODID:-//hacksw/handcal//NONSGML v1.0//EN
CALSCALE:GREGORIAN
BEGIN:VEVENT
DTSTART:20251126T093000Z
DTEND:20251126T103000Z
UID:e30914
DTSTAMP:20260420T081004Z
LOCATION:
DESCRIPTION:LS Luncheon
SUMMARY:LS Luncheon
END:VEVENT
END:VCALENDAR