BEGIN:VCALENDAR
VERSION:2.0
PRODID:-//hacksw/handcal//NONSGML v1.0//EN
CALSCALE:GREGORIAN
BEGIN:VEVENT
DTSTART:20251125T080000Z
DTEND:20251125T090000Z
UID:e30920
DTSTAMP:20260420T065138Z
LOCATION:Nella and Leon Benoziyo Building for Biological Sciences
DESCRIPTION:Unlock the future of Drug Discovery:  Hit Identification & Profiling in WuXi Biology
SUMMARY:Unlock the future of Drug Discovery:  Hit Identification & Profiling in WuXi Biology
END:VEVENT
END:VCALENDAR