BEGIN:VCALENDAR
VERSION:2.0
PRODID:-//hacksw/handcal//NONSGML v1.0//EN
CALSCALE:GREGORIAN
BEGIN:VEVENT
DTSTART:20251119T113000Z
DTEND:20251119T130000Z
UID:e30922
DTSTAMP:20260420T173722Z
LOCATION:Nella and Leon Benoziyo Building for Biological Sciences
DESCRIPTION:Workshop:  Data management plan for EU grants
SUMMARY:Workshop:  Data management plan for EU grants
END:VEVENT
END:VCALENDAR