BEGIN:VCALENDAR
VERSION:2.0
PRODID:-//hacksw/handcal//NONSGML v1.0//EN
CALSCALE:GREGORIAN
BEGIN:VEVENT
DTSTART:20260129T050000Z
DTEND:20260129T050000Z
UID:e30926
DTSTAMP:20260420T173725Z
LOCATION:
DESCRIPTION:Israel Algorithmic Game Theory Day
SUMMARY:Israel Algorithmic Game Theory Day
END:VEVENT
END:VCALENDAR