BEGIN:VCALENDAR
VERSION:2.0
PRODID:-//hacksw/handcal//NONSGML v1.0//EN
CALSCALE:GREGORIAN
BEGIN:VEVENT
DTSTART:20251117T111500Z
DTEND:20251117T130000Z
UID:e30932
DTSTAMP:20260420T173733Z
LOCATION:The David Lopatie Hall of Graduate Studies
DESCRIPTION:Midrasha on Groups Seminar
SUMMARY:Midrasha on Groups Seminar
END:VEVENT
END:VCALENDAR