BEGIN:VCALENDAR
VERSION:2.0
PRODID:-//hacksw/handcal//NONSGML v1.0//EN
CALSCALE:GREGORIAN
BEGIN:VEVENT
DTSTART:20251130T060000Z
DTEND:20251130T070000Z
UID:e30936
DTSTAMP:20260420T054853Z
LOCATION:
DESCRIPTION:CytoFLEX Nano Workshop
SUMMARY:CytoFLEX Nano Workshop
END:VEVENT
END:VCALENDAR