BEGIN:VCALENDAR
VERSION:2.0
PRODID:-//hacksw/handcal//NONSGML v1.0//EN
CALSCALE:GREGORIAN
BEGIN:VEVENT
DTSTART:20251123T080000Z
DTEND:20251123T090000Z
UID:e30940
DTSTAMP:20260420T065117Z
LOCATION:
DESCRIPTION:Cracking the rRNA variation code in human health and disease
SUMMARY:Cracking the rRNA variation code in human health and disease
END:VEVENT
END:VCALENDAR