BEGIN:VCALENDAR
VERSION:2.0
PRODID:-//hacksw/handcal//NONSGML v1.0//EN
CALSCALE:GREGORIAN
BEGIN:VEVENT
DTSTART:20251125T070000Z
DTEND:20251125T090000Z
UID:e30942
DTSTAMP:20260420T065130Z
LOCATION:
DESCRIPTION:Molybdenum metabolism: From genes and protein structures to an FDA-approved therapy of a deadly human disease
SUMMARY:Molybdenum metabolism: From genes and protein structures to an FDA-approved therapy of a deadly human disease
END:VEVENT
END:VCALENDAR