BEGIN:VCALENDAR
VERSION:2.0
PRODID:-//hacksw/handcal//NONSGML v1.0//EN
CALSCALE:GREGORIAN
BEGIN:VEVENT
DTSTART:20251204T080000Z
DTEND:20251204T090000Z
UID:e30954
DTSTAMP:20260420T045906Z
LOCATION:Max and Lillian Candiotty Building
DESCRIPTION:From Sequence to Patient- Personalized Antisense Oligonucleotides for Ultra-Rare Diseases
SUMMARY:From Sequence to Patient- Personalized Antisense Oligonucleotides for Ultra-Rare Diseases
END:VEVENT
END:VCALENDAR