BEGIN:VCALENDAR
VERSION:2.0
PRODID:-//hacksw/handcal//NONSGML v1.0//EN
CALSCALE:GREGORIAN
BEGIN:VEVENT
DTSTART:20251130T080000Z
DTEND:20251130T090000Z
UID:e30964
DTSTAMP:20260420T054900Z
LOCATION:Stone Administration Building
DESCRIPTION:Earthcasting fast-evolving landscapes and high-order sediment transport dynamics
SUMMARY:Earthcasting fast-evolving landscapes and high-order sediment transport dynamics
END:VEVENT
END:VCALENDAR