BEGIN:VCALENDAR
VERSION:2.0
PRODID:-//hacksw/handcal//NONSGML v1.0//EN
CALSCALE:GREGORIAN
BEGIN:VEVENT
DTSTART:20251204T060000Z
DTEND:20251204T070000Z
UID:e30968
DTSTAMP:20260420T045836Z
LOCATION:Max and Lillian Candiotty Building
DESCRIPTION:Cell Observatory expanding dimensions of discovery: Spatial\, Multiplex\, Multi-omics
SUMMARY:Cell Observatory expanding dimensions of discovery: Spatial\, Multiplex\, Multi-omics
END:VEVENT
END:VCALENDAR