BEGIN:VCALENDAR
VERSION:2.0
PRODID:-//hacksw/handcal//NONSGML v1.0//EN
CALSCALE:GREGORIAN
BEGIN:VEVENT
DTSTART:20260615T080000Z
DTEND:20260615T091500Z
UID:e31030
DTSTAMP:20260419T185451Z
LOCATION:Gerhard M.J. Schmidt Lecture Hall
DESCRIPTION:Chemistry colloquium
SUMMARY:Chemistry colloquium
END:VEVENT
END:VCALENDAR