BEGIN:VCALENDAR
VERSION:2.0
PRODID:-//hacksw/handcal//NONSGML v1.0//EN
CALSCALE:GREGORIAN
BEGIN:VEVENT
DTSTART:20251229T063000Z
DTEND:20251229T073000Z
UID:e31058
DTSTAMP:20260420T034202Z
LOCATION:Nella and Leon Benoziyo Building for Plant and Environmental Sciences
DESCRIPTION:PhD Defense Seminar- Ofir Kuperman
SUMMARY:PhD Defense Seminar- Ofir Kuperman
END:VEVENT
END:VCALENDAR