BEGIN:VCALENDAR
VERSION:2.0
PRODID:-//hacksw/handcal//NONSGML v1.0//EN
CALSCALE:GREGORIAN
BEGIN:VEVENT
DTSTART:19691231T160000Z
DTEND:19691231T160000Z
UID:e31074
DTSTAMP:20260420T054930Z
LOCATION:Jacob Ziskind Building
DESCRIPTION:Hanukkah STAR - workshop 2025
SUMMARY:Hanukkah STAR - workshop 2025
END:VEVENT
END:VCALENDAR