BEGIN:VCALENDAR
VERSION:2.0
PRODID:-//hacksw/handcal//NONSGML v1.0//EN
CALSCALE:GREGORIAN
BEGIN:VEVENT
DTSTART:20260115T070000Z
DTEND:20260115T080000Z
UID:e31080
DTSTAMP:20260421T051427Z
LOCATION:Arthur and Rochelle Belfer Building for Biomedical Research
DESCRIPTION:Molecular Mechanisms of Synapse and Myelin Development\, Plasticity\, and Repair
SUMMARY:Molecular Mechanisms of Synapse and Myelin Development\, Plasticity\, and Repair
END:VEVENT
END:VCALENDAR