BEGIN:VCALENDAR
VERSION:2.0
PRODID:-//hacksw/handcal//NONSGML v1.0//EN
CALSCALE:GREGORIAN
BEGIN:VEVENT
DTSTART:20260128T080000Z
DTEND:20260128T091500Z
UID:e31090
DTSTAMP:20260421T051340Z
LOCATION:Stone Administration Building
DESCRIPTION:Collective states in molecular lattices: A novel route for tailored 2D and 1D materials
SUMMARY:Collective states in molecular lattices: A novel route for tailored 2D and 1D materials
END:VEVENT
END:VCALENDAR