BEGIN:VCALENDAR
VERSION:2.0
PRODID:-//hacksw/handcal//NONSGML v1.0//EN
CALSCALE:GREGORIAN
BEGIN:VEVENT
DTSTART:20251223T084500Z
DTEND:20251223T090000Z
UID:e31096
DTSTAMP:20260420T194214Z
LOCATION:Nella and Leon Benoziyo Building for Plant and Environmental Sciences
DESCRIPTION:Hidden genetic complexities and phenotypic consequences of evolving plant stem cell networks across nature and agriculture
SUMMARY:Hidden genetic complexities and phenotypic consequences of evolving plant stem cell networks across nature and agriculture
END:VEVENT
END:VCALENDAR