BEGIN:VCALENDAR
VERSION:2.0
PRODID:-//hacksw/handcal//NONSGML v1.0//EN
CALSCALE:GREGORIAN
BEGIN:VEVENT
DTSTART:20251229T070000Z
DTEND:20251229T080000Z
UID:e31122
DTSTAMP:20260420T054856Z
LOCATION:
DESCRIPTION:New insights into the links between neurodegeneration and autophagy
SUMMARY:New insights into the links between neurodegeneration and autophagy
END:VEVENT
END:VCALENDAR