BEGIN:VCALENDAR
VERSION:2.0
PRODID:-//hacksw/handcal//NONSGML v1.0//EN
CALSCALE:GREGORIAN
BEGIN:VEVENT
DTSTART:20260219T083000Z
DTEND:20260219T093000Z
UID:e31132
DTSTAMP:20260419T210957Z
LOCATION:Arthur and Rochelle Belfer Building for Biomedical Research
DESCRIPTION:Seminar for PhD thesis defense with Erez Yirmiya
SUMMARY:Seminar for PhD thesis defense with Erez Yirmiya
END:VEVENT
END:VCALENDAR