BEGIN:VCALENDAR
VERSION:2.0
PRODID:-//hacksw/handcal//NONSGML v1.0//EN
CALSCALE:GREGORIAN
BEGIN:VEVENT
DTSTART:20260120T081500Z
DTEND:20260120T091500Z
UID:e31136
DTSTAMP:20260420T195150Z
LOCATION:Gerhard M.J. Schmidt Lecture Hall
DESCRIPTION:Structure-Function Rules for Protein Sensing and Response at Atomic Resolution
SUMMARY:Structure-Function Rules for Protein Sensing and Response at Atomic Resolution
END:VEVENT
END:VCALENDAR