BEGIN:VCALENDAR
VERSION:2.0
PRODID:-//hacksw/handcal//NONSGML v1.0//EN
CALSCALE:GREGORIAN
BEGIN:VEVENT
DTSTART:20251228T080000Z
DTEND:20251228T090000Z
UID:e31154
DTSTAMP:20260420T034112Z
LOCATION:Stone Administration Building
DESCRIPTION:Slip pulse earthquakes
SUMMARY:Slip pulse earthquakes
END:VEVENT
END:VCALENDAR