BEGIN:VCALENDAR
VERSION:2.0
PRODID:-//hacksw/handcal//NONSGML v1.0//EN
CALSCALE:GREGORIAN
BEGIN:VEVENT
DTSTART:20260118T101500Z
DTEND:20260118T111500Z
UID:e31190
DTSTAMP:20260419T185542Z
LOCATION:Nella and Leon Benoziyo Physics Library
DESCRIPTION:The Clore Center for Biological Physics
SUMMARY:The Clore Center for Biological Physics
END:VEVENT
END:VCALENDAR