BEGIN:VCALENDAR
VERSION:2.0
PRODID:-//hacksw/handcal//NONSGML v1.0//EN
CALSCALE:GREGORIAN
BEGIN:VEVENT
DTSTART:20260128T080000Z
DTEND:20260128T100000Z
UID:e31224
DTSTAMP:20260420T050135Z
LOCATION:
DESCRIPTION:Innovatin Flash Talks
SUMMARY:Innovatin Flash Talks
END:VEVENT
END:VCALENDAR