BEGIN:VCALENDAR
VERSION:2.0
PRODID:-//hacksw/handcal//NONSGML v1.0//EN
CALSCALE:GREGORIAN
BEGIN:VEVENT
DTSTART:20260219T110000Z
DTEND:20260219T120000Z
UID:e31228
DTSTAMP:20260419T211002Z
LOCATION:Arthur and Rochelle Belfer Building for Biomedical Research
DESCRIPTION:Development of an oligonucleotide therapy for a severe neurodevelopmental disease: A new treatment for Schinzel-Giedion Syndrome
SUMMARY:Development of an oligonucleotide therapy for a severe neurodevelopmental disease: A new treatment for Schinzel-Giedion Syndrome
END:VEVENT
END:VCALENDAR