BEGIN:VCALENDAR
VERSION:2.0
PRODID:-//hacksw/handcal//NONSGML v1.0//EN
CALSCALE:GREGORIAN
BEGIN:VEVENT
DTSTART:20260118T080000Z
DTEND:20260118T090000Z
UID:e31230
DTSTAMP:20260421T051203Z
LOCATION:Stone Administration Building
DESCRIPTION:The Volcanic Soils of the Golan Heights- New Perspectives
SUMMARY:The Volcanic Soils of the Golan Heights- New Perspectives
END:VEVENT
END:VCALENDAR