BEGIN:VCALENDAR
VERSION:2.0
PRODID:-//hacksw/handcal//NONSGML v1.0//EN
CALSCALE:GREGORIAN
BEGIN:VEVENT
DTSTART:20260218T110000Z
DTEND:20260218T120000Z
UID:e31266
DTSTAMP:20260419T210958Z
LOCATION:Max and Lillian Candiotty Building
DESCRIPTION:PKC-eta promotes breast cancer metastasis by regulating the Hippo–YAP signaling pathway
SUMMARY:PKC-eta promotes breast cancer metastasis by regulating the Hippo–YAP signaling pathway
END:VEVENT
END:VCALENDAR