BEGIN:VCALENDAR
VERSION:2.0
PRODID:-//hacksw/handcal//NONSGML v1.0//EN
CALSCALE:GREGORIAN
BEGIN:VEVENT
DTSTART:20260219T103000Z
DTEND:20260219T113000Z
UID:e31312
DTSTAMP:20260424T023919Z
LOCATION:
DESCRIPTION:Systems Immunology's I3 Club Meeting - Prof. Aude Bernheim
SUMMARY:Systems Immunology's I3 Club Meeting - Prof. Aude Bernheim
END:VEVENT
END:VCALENDAR