BEGIN:VCALENDAR
VERSION:2.0
PRODID:-//hacksw/handcal//NONSGML v1.0//EN
CALSCALE:GREGORIAN
BEGIN:VEVENT
DTSTART:20260518T070000Z
DTEND:20260518T080000Z
UID:e31426
DTSTAMP:20260421T084649Z
LOCATION:Max and Lillian Candiotty Building
DESCRIPTION:Phosphorylation in Health and Disease: how dynamic cell signaling shapes biology\, pathology\, and therapy
SUMMARY:Phosphorylation in Health and Disease: how dynamic cell signaling shapes biology\, pathology\, and therapy
END:VEVENT
END:VCALENDAR