BEGIN:VCALENDAR
VERSION:2.0
PRODID:-//hacksw/handcal//NONSGML v1.0//EN
CALSCALE:GREGORIAN
BEGIN:VEVENT
DTSTART:20261130T080000Z
DTEND:20261130T091500Z
UID:e31428
DTSTAMP:20260419T225749Z
LOCATION:Gerhard M.J. Schmidt Lecture Hall
DESCRIPTION:Annual Pearlman lecture
SUMMARY:Annual Pearlman lecture
END:VEVENT
END:VCALENDAR