BEGIN:VCALENDAR
VERSION:2.0
PRODID:-//hacksw/handcal//NONSGML v1.0//EN
CALSCALE:GREGORIAN
BEGIN:VEVENT
DTSTART:20260427T100000Z
DTEND:20260427T113000Z
UID:e31430
DTSTAMP:20260421T180302Z
LOCATION:
DESCRIPTION:PhD Defense seminar by Daniel Kovarsky (Prof. Itay Tirosh Lab)
SUMMARY:PhD Defense seminar by Daniel Kovarsky (Prof. Itay Tirosh Lab)
END:VEVENT
END:VCALENDAR