BEGIN:VCALENDAR
VERSION:2.0
PRODID:-//hacksw/handcal//NONSGML v1.0//EN
CALSCALE:GREGORIAN
BEGIN:VEVENT
DTSTART:20260528T110000Z
DTEND:20260528T120000Z
UID:e31434
DTSTAMP:20260420T142446Z
LOCATION:Max and Lillian Candiotty Building
DESCRIPTION:Single cell transcriptomics of efferocytosis identifies a unique macrophage state with contextual functions
SUMMARY:Single cell transcriptomics of efferocytosis identifies a unique macrophage state with contextual functions
END:VEVENT
END:VCALENDAR