BEGIN:VCALENDAR
VERSION:2.0
PRODID:-//hacksw/handcal//NONSGML v1.0//EN
CALSCALE:GREGORIAN
BEGIN:VEVENT
DTSTART:20260428T081000Z
DTEND:20260428T091500Z
UID:e31436
DTSTAMP:20260423T012607Z
LOCATION:Jacob Ziskind Building
DESCRIPTION:Mathematics Colloquium
SUMMARY:Mathematics Colloquium
END:VEVENT
END:VCALENDAR