BEGIN:VCALENDAR
VERSION:2.0
PRODID:-//hacksw/handcal//NONSGML v1.0//EN
CALSCALE:GREGORIAN
BEGIN:VEVENT
DTSTART:20260428T083000Z
DTEND:20260428T093000Z
UID:e31438
DTSTAMP:20260423T012607Z
LOCATION:Nella and Leon Benoziyo Building for Plant and Environmental Sciences
DESCRIPTION:PES Department Seminar – Dr. Yotam Zait (HUJI)
SUMMARY:PES Department Seminar – Dr. Yotam Zait (HUJI)
END:VEVENT
END:VCALENDAR