BEGIN:VCALENDAR
VERSION:2.0
PRODID:-//hacksw/handcal//NONSGML v1.0//EN
CALSCALE:GREGORIAN
BEGIN:VEVENT
DTSTART:20070101T113000Z
DTEND:20070101T113000Z
UID:e4859
DTSTAMP:20260421T180301Z
LOCATION:Gerhard M.J. Schmidt Lecture Hall
DESCRIPTION:Faculty of Chemistry Day
SUMMARY:Faculty of Chemistry Day
END:VEVENT
END:VCALENDAR