BEGIN:VCALENDAR
VERSION:2.0
PRODID:-//hacksw/handcal//NONSGML v1.0//EN
CALSCALE:GREGORIAN
BEGIN:VEVENT
DTSTART:20071106T090000Z
DTEND:20071106T090000Z
UID:e5917
DTSTAMP:20260421T123146Z
LOCATION:
DESCRIPTION:Inflection Point Inflation
SUMMARY:Inflection Point Inflation
END:VEVENT
END:VCALENDAR