BEGIN:VCALENDAR
VERSION:2.0
PRODID:-//hacksw/handcal//NONSGML v1.0//EN
CALSCALE:GREGORIAN
BEGIN:VEVENT
DTSTART:20080729T091500Z
DTEND:20080729T091500Z
UID:e7025
DTSTAMP:20260421T085324Z
LOCATION:Jacob Ziskind Building
DESCRIPTION:Hippocampal place field representation of the environment: Encoding\, retrieval and remapping
SUMMARY:Hippocampal place field representation of the environment: Encoding\, retrieval and remapping
END:VEVENT
END:VCALENDAR