BEGIN:VCALENDAR
VERSION:2.0
PRODID:-//hacksw/handcal//NONSGML v1.0//EN
CALSCALE:GREGORIAN
BEGIN:VEVENT
DTSTART:20090513T081500Z
DTEND:20090513T093000Z
UID:e7878
DTSTAMP:20260424T055741Z
LOCATION:Edna and K.B. Weissman Building of Physical Sciences
DESCRIPTION:Fluctuation analyses and the Mass-Timescale relation in accreting Black Holes
SUMMARY:Fluctuation analyses and the Mass-Timescale relation in accreting Black Holes
END:VEVENT
END:VCALENDAR