BEGIN:VCALENDAR
VERSION:2.0
PRODID:-//hacksw/handcal//NONSGML v1.0//EN
CALSCALE:GREGORIAN
BEGIN:VEVENT
DTSTART:20100222T080000Z
DTEND:20100222T080000Z
UID:e8333
DTSTAMP:20260421T085241Z
LOCATION:Dolfi and Lola Ebner Auditorium
DESCRIPTION:Tracing cancer lineages
SUMMARY:Tracing cancer lineages
END:VEVENT
END:VCALENDAR