BEGIN:VCALENDAR
VERSION:2.0
PRODID:-//hacksw/handcal//NONSGML v1.0//EN
CALSCALE:GREGORIAN
BEGIN:VEVENT
DTSTART:20100105T103000Z
DTEND:20100105T103000Z
UID:e8621
DTSTAMP:20260421T180734Z
LOCATION:Wolfson Building for Biological Research
DESCRIPTION:"Immunology of the mind in health and disorders"
SUMMARY:"Immunology of the mind in health and disorders"
END:VEVENT
END:VCALENDAR