BEGIN:VCALENDAR
VERSION:2.0
PRODID:-//hacksw/handcal//NONSGML v1.0//EN
CALSCALE:GREGORIAN
BEGIN:VEVENT
DTSTART:20091108T080000Z
DTEND:20091108T080000Z
UID:e8652
DTSTAMP:20260420T045859Z
LOCATION:Jacob Ziskind Building
DESCRIPTION:New Approximation Algorithms for Densest k-Subgraph 
SUMMARY:New Approximation Algorithms for Densest k-Subgraph 
END:VEVENT
END:VCALENDAR