BEGIN:VCALENDAR
VERSION:2.0
PRODID:-//hacksw/handcal//NONSGML v1.0//EN
CALSCALE:GREGORIAN
BEGIN:VEVENT
DTSTART:20100325T100000Z
DTEND:20100325T100000Z
UID:e8676
DTSTAMP:20260421T051146Z
LOCATION:Arthur and Rochelle Belfer Building for Biomedical Research
DESCRIPTION:CRISPR - a miRNA-based immune system in bacteria that protects against phage attacks
SUMMARY:CRISPR - a miRNA-based immune system in bacteria that protects against phage attacks
END:VEVENT
END:VCALENDAR