BEGIN:VCALENDAR
VERSION:2.0
PRODID:-//hacksw/handcal//NONSGML v1.0//EN
CALSCALE:GREGORIAN
BEGIN:VEVENT
DTSTART:20100225T100000Z
DTEND:20100225T100000Z
UID:e8678
DTSTAMP:20260422T151258Z
LOCATION:Arthur and Rochelle Belfer Building for Biomedical Research
DESCRIPTION:Timing with miRNAs: role of small RNAs on circadian rhythms in Drosophila
SUMMARY:Timing with miRNAs: role of small RNAs on circadian rhythms in Drosophila
END:VEVENT
END:VCALENDAR