BEGIN:VCALENDAR
VERSION:2.0
PRODID:-//hacksw/handcal//NONSGML v1.0//EN
CALSCALE:GREGORIAN
BEGIN:VEVENT
DTSTART:20091117T080000Z
DTEND:20091117T090000Z
UID:e8681
DTSTAMP:20260421T085037Z
LOCATION:Ullmann Building of Life Sciences
DESCRIPTION:"Coordination of abiotic stress responses by inositol polyphosphate 5-phosphatase signaling: From Plasma membrane to the Nucleus"
SUMMARY:"Coordination of abiotic stress responses by inositol polyphosphate 5-phosphatase signaling: From Plasma membrane to the Nucleus"
END:VEVENT
END:VCALENDAR