BEGIN:VCALENDAR
VERSION:2.0
PRODID:-//hacksw/handcal//NONSGML v1.0//EN
CALSCALE:GREGORIAN
BEGIN:VEVENT
DTSTART:20091125T130000Z
DTEND:20091125T130000Z
UID:e8706
DTSTAMP:20260420T122303Z
LOCATION:Dolfi and Lola Ebner Auditorium
DESCRIPTION:Popular Archaeology Lecture
SUMMARY:Popular Archaeology Lecture
END:VEVENT
END:VCALENDAR