BEGIN:VCALENDAR
VERSION:2.0
PRODID:-//hacksw/handcal//NONSGML v1.0//EN
CALSCALE:GREGORIAN
BEGIN:VEVENT
DTSTART:20100216T091500Z
DTEND:20100216T091500Z
UID:e8771
DTSTAMP:20260421T051347Z
LOCATION:Wolfson Building for Biological Research
DESCRIPTION:Getting the left side right: genetic approaches to understand brain   asymmetry
SUMMARY:Getting the left side right: genetic approaches to understand brain   asymmetry
END:VEVENT
END:VCALENDAR