BEGIN:VCALENDAR
VERSION:2.0
PRODID:-//hacksw/handcal//NONSGML v1.0//EN
CALSCALE:GREGORIAN
BEGIN:VEVENT
DTSTART:20091201T080000Z
DTEND:20091201T090000Z
UID:e8785
DTSTAMP:20260421T085039Z
LOCATION:Ullmann Building of Life Sciences
DESCRIPTION:"Mitochondrial Genomes in Maize and its Relatives"
SUMMARY:"Mitochondrial Genomes in Maize and its Relatives"
END:VEVENT
END:VCALENDAR