BEGIN:VCALENDAR
VERSION:2.0
PRODID:-//hacksw/handcal//NONSGML v1.0//EN
CALSCALE:GREGORIAN
BEGIN:VEVENT
DTSTART:20091225T080000Z
DTEND:20091225T080000Z
UID:e8786
DTSTAMP:20260422T145009Z
LOCATION:Dolfi and Lola Ebner Auditorium
DESCRIPTION:Friday Culture - Shlomo Bar Shavit
SUMMARY:Friday Culture - Shlomo Bar Shavit
END:VEVENT
END:VCALENDAR